BEGIN:VCALENDAR
VERSION:2.0
PRODID:www.codnes.sk
BEGIN:VEVENT
UID:69eba834758d5
DTSTART:20260425T110000Z
SEQUENCE:0
TRANSP:OPAQUE
DTEND:20260425T120000Z
LOCATION:Bratislava
SUMMARY:Otvorené budovy: Bratislavské mestské dni 2026 vo Francúzskom i
 nštitúte
CLASS:PUBLIC
DESCRIPTION:Kúsok Francúzska v srdci BratislavyPríďte si vychutnať jed
 inečnú atmosféru Francúzska priamo v centr
DTSTAMP:20260424T172820Z
END:VEVENT
END:VCALENDAR