BEGIN:VCALENDAR
VERSION:2.0
PRODID:www.codnes.sk
BEGIN:VEVENT
UID:69ed1b433e18d
DTSTART:20260425T110000Z
SEQUENCE:0
TRANSP:OPAQUE
DTEND:20260426T180000Z
LOCATION:Bratislava
SUMMARY:Otvorený ateliér
CLASS:PUBLIC
DESCRIPTION:Objavte v sebe tvorivý potenciál! Ponorte sa do tvorby cez vi
 aceré aktivity pripravené na stoloch.Vy
DTSTAMP:20260425T195131Z
END:VEVENT
END:VCALENDAR