BEGIN:VCALENDAR
VERSION:2.0
PRODID:www.codnes.sk
BEGIN:VEVENT
UID:69e745c228522
DTSTART:20260314T180000Z
SEQUENCE:0
TRANSP:OPAQUE
DTEND:20260314T220000Z
LOCATION:Bratislava
SUMMARY:PANEL DISKA OLDIESKA
CLASS:PUBLIC
DESCRIPTION:Oprášte v hlave texty od Madonny či Backstreet Boys a dopraj
 te si návrat na miesto\, ktoré vám pripom
DTSTAMP:20260421T093914Z
END:VEVENT
END:VCALENDAR