BEGIN:VCALENDAR
VERSION:2.0
PRODID:www.codnes.sk
BEGIN:VEVENT
UID:69e5f23434e60
DTSTART:20260325T210000Z
SEQUENCE:0
TRANSP:OPAQUE
DTEND:20260326T040000Z
LOCATION:Bratislava
SUMMARY:Párty PdF
CLASS:PUBLIC
DESCRIPTION:🔥 PÁRTY PdF v Neptune Club – najnovšom klube bratislavsk
 ej nočnej scény! 🎉Pedagogická fakulta Univer
DTSTAMP:20260420T093028Z
END:VEVENT
END:VCALENDAR