BEGIN:VCALENDAR
VERSION:2.0
PRODID:www.codnes.sk
BEGIN:VEVENT
UID:69e733f0bb9f4
DTSTART:20260317T100000Z
SEQUENCE:0
TRANSP:OPAQUE
DTEND:20260317T140000Z
LOCATION:Bratislava
SUMMARY:PATCH TO MATCH: textilný autorský kurz ~ Hravé farbenie
CLASS:PUBLIC
DESCRIPTION:a tomto workshope sa ponoríme do hravého farbenia textilu i
 nšpirovaného pohybom a spontánnosťou. Bud
DTSTAMP:20260421T082312Z
END:VEVENT
END:VCALENDAR