BEGIN:VCALENDAR
VERSION:2.0
PRODID:www.codnes.sk
BEGIN:VEVENT
UID:69e9e35661123
DTSTART:20260423T170000Z
SEQUENCE:0
TRANSP:OPAQUE
DTEND:20260423T210000Z
LOCATION:Bratislava
SUMMARY:Pletky
CLASS:PUBLIC
DESCRIPTION:Príďte na skupinové štrikovanie v pokojnej atmosfére a dob
 rej spoločnosti. Staromestská knižnica pre
DTSTAMP:20260423T091606Z
END:VEVENT
END:VCALENDAR