BEGIN:VCALENDAR
VERSION:2.0
PRODID:www.codnes.sk
BEGIN:VEVENT
UID:69ed3c6961d06
DTSTART:20260426T100000Z
SEQUENCE:0
TRANSP:OPAQUE
DTEND:20260426T130000Z
LOCATION:Bratislava
SUMMARY:POĎ DO PARKU! / Deň Zeme / MČ Bratislava-Rača
CLASS:PUBLIC
DESCRIPTION:POĎ DO PARKU!26.4.&nbsp\;&nbsp\; 10.00 h – 13.00 hPark Strel
 kova 3Príďte osláviť Deň Zeme (22.4.) s na
DTSTAMP:20260425T221257Z
END:VEVENT
END:VCALENDAR