BEGIN:VCALENDAR
VERSION:2.0
PRODID:www.codnes.sk
BEGIN:VEVENT
UID:69eb39b8c39a6
DTSTART:20260425T163000Z
SEQUENCE:0
TRANSP:OPAQUE
DTEND:20260425T180000Z
LOCATION:Bratislava
SUMMARY:Podpora biodiverzity v mestskom prostredí
CLASS:PUBLIC
DESCRIPTION:Čo je biodiverzita\, prečo ju potrebujeme a aký má význam 
 v meste? Prednáška odhalí súvislosti\, ktoré
DTSTAMP:20260424T093656Z
END:VEVENT
END:VCALENDAR