BEGIN:VCALENDAR
VERSION:2.0
PRODID:www.codnes.sk
BEGIN:VEVENT
UID:69e732cbf2b1d
DTSTART:20260318T070000Z
SEQUENCE:0
TRANSP:OPAQUE
DTEND:20260318T110000Z
LOCATION:Bratislava
SUMMARY:Pohybové prebúdzanky
CLASS:PUBLIC
DESCRIPTION:Prijmite pozvanie na spoločné prebúdzanie sa v jemnom pohybo
 vom dialógu s prítomnosťou. Procesom cit
DTSTAMP:20260421T081819Z
END:VEVENT
END:VCALENDAR