BEGIN:VCALENDAR
VERSION:2.0
PRODID:www.codnes.sk
BEGIN:VEVENT
UID:69e6cb99752ab
DTSTART:20260626T203000Z
SEQUENCE:0
TRANSP:OPAQUE
DTEND:20260626T235900Z
LOCATION:Bratislava
SUMMARY:Posledný koncert Originál KARPINA
CLASS:PUBLIC
DESCRIPTION:Posledný koncert legendárneho hudobného telesa na planéte Z
 em!Nenechajte si ujsť príležitosť naposle
DTSTAMP:20260421T005801Z
END:VEVENT
END:VCALENDAR