BEGIN:VCALENDAR
VERSION:2.0
PRODID:www.codnes.sk
BEGIN:VEVENT
UID:69e745c24861d
DTSTART:20260314T190000Z
SEQUENCE:0
TRANSP:OPAQUE
LOCATION:Bratislava
SUMMARY:PRAGUE CELLO QUARTET
CLASS:PUBLIC
DESCRIPTION:PRAGUE CELLO QUARTET je súbor štyroch českých výnimočnýc
 h muzikantov hrajúcich v originálnej úprave
DTSTAMP:20260421T093914Z
END:VEVENT
END:VCALENDAR