BEGIN:VCALENDAR
VERSION:2.0
PRODID:www.codnes.sk
BEGIN:VEVENT
UID:69e75919639b8
DTSTART:20260423T173000Z
SEQUENCE:0
TRANSP:OPAQUE
DTEND:20260423T213000Z
LOCATION:Bratislava
SUMMARY:Premeny Račianskej | Bratislavské potulky prináša CORWIN
CLASS:PUBLIC
DESCRIPTION:Komentovanú prehliadku vám bezplatne prináša CORWIN\, devel
 oper zameraný na kvalitnú a udržateľnú arc
DTSTAMP:20260421T110145Z
END:VEVENT
END:VCALENDAR