BEGIN:VCALENDAR
VERSION:2.0
PRODID:www.codnes.sk
BEGIN:VEVENT
UID:69e745d568731
DTSTART:20260309T174500Z
SEQUENCE:0
TRANSP:OPAQUE
DTEND:20260309T194500Z
LOCATION:Bratislava
SUMMARY:Prešporské pondelky
CLASS:PUBLIC
DESCRIPTION:Prešporské pondelky – cyklus desiatich tematických predná
 šok sa zameriava nielen na veľké historické
DTSTAMP:20260421T093933Z
END:VEVENT
END:VCALENDAR