BEGIN:VCALENDAR
VERSION:2.0
PRODID:www.codnes.sk
BEGIN:VEVENT
UID:69e731d0b9888
DTSTART:20260314T190000Z
SEQUENCE:0
TRANSP:OPAQUE
LOCATION:Bratislava
SUMMARY:Psychohrátky
CLASS:PUBLIC
DESCRIPTION:\"Psychohrátky\" \n-  Eva Holubová\, Karolína Holubová\, 
 Matěj Paprčiak a psycholog Jiří Valášek.\n \nSlove
DTSTAMP:20260421T081408Z
END:VEVENT
END:VCALENDAR