BEGIN:VCALENDAR
VERSION:2.0
PRODID:www.codnes.sk
BEGIN:VEVENT
UID:69e7483c5b5a0
DTSTART:20260313T210000Z
SEQUENCE:0
TRANSP:OPAQUE
DTEND:20260313T235900Z
LOCATION:Modra
SUMMARY:Rádiovica Trnavského rádia: Prvý krát v Modre!
CLASS:PUBLIC
DESCRIPTION:Modra\, pozor! Toto bude historický moment. Obľúbená párty
  Trnavského rádia prvýkrát prekračuje hrani
DTSTAMP:20260421T094948Z
END:VEVENT
END:VCALENDAR