BEGIN:VCALENDAR
VERSION:2.0
PRODID:www.codnes.sk
BEGIN:VEVENT
UID:69e9e2f47efe8
DTSTART:20260424T100000Z
SEQUENCE:0
TRANSP:OPAQUE
DTEND:20260424T140000Z
LOCATION:Bratislava
SUMMARY:RE-KREÁCIA Swapuj a tvor pre planétu!
CLASS:PUBLIC
DESCRIPTION:RE-KREÁCIASwapuj a tvor pre planétu!&nbsp\;10.00 – 14.00 Sw
 ap oblečenia\, kníh a rastlín10.00 – 11.00
DTSTAMP:20260423T091428Z
END:VEVENT
END:VCALENDAR