BEGIN:VCALENDAR
VERSION:2.0
PRODID:www.codnes.sk
BEGIN:VEVENT
UID:69e6020b01b02
DTSTART:20260420T190000Z
SEQUENCE:0
TRANSP:OPAQUE
DTEND:20260420T235959Z
LOCATION:Bratislava
SUMMARY:𝗞𝗼𝗻𝗶𝗲𝗰 𝗘𝗱𝗱𝘆𝗵𝗼 ∣∣ repríza 
 ∣∣ @P*AKT
CLASS:PUBLIC
DESCRIPTION:“𝗞𝗲𝗱̌ 𝘀𝗼𝗺 𝘀𝗮 𝗻𝗮𝗿𝗼𝗱
 𝗶𝗹\, 𝗺𝗼̂𝗷 𝗼𝘁𝗲𝗰 𝘀𝗮 𝘃𝗲𝗹̌𝗺𝗶
  𝘁𝗲𝘀̌𝗶𝗹.&nbsp\;𝗝𝗲𝗵𝗼 𝗽𝗿𝘃𝗲́ 𝗱
 𝗶𝗲𝘁̌𝗮.&nbsp\;𝗝𝗲𝗵𝗼 𝘀𝘆𝗻.&nbsp\;𝗢𝘁
 𝗮́𝘇𝗸
DTSTAMP:20260420T103803Z
END:VEVENT
END:VCALENDAR