BEGIN:VCALENDAR
VERSION:2.0
PRODID:www.codnes.sk
BEGIN:VEVENT
UID:69e60201131ae
DTSTART:20260420T190000Z
SEQUENCE:0
TRANSP:OPAQUE
LOCATION:Bratislava
SUMMARY:Riaditeľky zemegule
CLASS:PUBLIC
DESCRIPTION:RIADITEĽKY ZEMEGULE\nKomédia.\n \nHrajú: Božidara Turzonov
 ová\, Darina Abrahámová\, Monika Horváthová\nAut
DTSTAMP:20260420T103753Z
END:VEVENT
END:VCALENDAR