BEGIN:VCALENDAR
VERSION:2.0
PRODID:www.codnes.sk
BEGIN:VEVENT
UID:69e9e2ef3df77
DTSTART:20260423T200000Z
SEQUENCE:0
TRANSP:OPAQUE
DTEND:20260423T235959Z
LOCATION:Bratislava
SUMMARY:ROCK´N´BURLESQUE SHOW
CLASS:PUBLIC
DESCRIPTION:Vstúpte do sveta\, kde sa stretnú kráľovné z Venuše s boj
 ovníkmi z Marsu.&nbsp\; Pripravte sa na expló
DTSTAMP:20260423T091423Z
END:VEVENT
END:VCALENDAR