BEGIN:VCALENDAR
VERSION:2.0
PRODID:www.codnes.sk
BEGIN:VEVENT
UID:69ed1bf317ac4
DTSTART:20260425T100000Z
SEQUENCE:0
TRANSP:OPAQUE
DTEND:20260425T170000Z
LOCATION:Bratislava
SUMMARY:Rodinné stopy: Pátranie pre deti a šikovných rodičov
CLASS:PUBLIC
DESCRIPTION:Vydajte sa na spoločné objavovanie vo výstave Rodinné skuto
 čnosti s naším sprievodcom\, ktorý sa dlhé
DTSTAMP:20260425T195427Z
END:VEVENT
END:VCALENDAR