BEGIN:VCALENDAR
VERSION:2.0
PRODID:www.codnes.sk
BEGIN:VEVENT
UID:69ed3c1746bef
DTSTART:20260426T100000Z
SEQUENCE:0
TRANSP:OPAQUE
DTEND:20260426T140000Z
LOCATION:Bratislava
SUMMARY:ROZPRÁVKOVÁ NEDEĽA - AKO SA ŠIKULKE A NEZNALKE PRIATEĽSTVO TAK
 MER ROZTOPILO
CLASS:PUBLIC
DESCRIPTION:Divadelné predstavenie pre deti. Účinkuje: divadlo ZuNeVaDiv
 adielko\, kde sa deti dozvedia nielen o k
DTSTAMP:20260425T221135Z
END:VEVENT
END:VCALENDAR