BEGIN:VCALENDAR
VERSION:2.0
PRODID:www.codnes.sk
BEGIN:VEVENT
UID:69e6023f3b5fb
DTSTART:20260420T190000Z
SEQUENCE:0
TRANSP:OPAQUE
LOCATION:Bratislava
SUMMARY:Skupinová terapia
CLASS:PUBLIC
DESCRIPTION:Skupinová terapia\, kde sa stretnú shakespearovské postavy. 
 Naše postavy nie sú hrdinovia klasických
DTSTAMP:20260420T103855Z
END:VEVENT
END:VCALENDAR