BEGIN:VCALENDAR
VERSION:2.0
PRODID:www.codnes.sk
BEGIN:VEVENT
UID:69e55b7c31977
DTSTART:20241101T100000Z
SEQUENCE:0
TRANSP:OPAQUE
LOCATION:Bratislava
SUMMARY:SLOVAK OPEN 2024
CLASS:PUBLIC
DESCRIPTION:SLOVAK OPEN – MEDZINÁRODNÉ MAJSTROVSTVÁ SLOVENSKA MUŽOV V
  TENISE (ATP CHALLENGER 125)\n28. 10. – 3. 1
DTSTAMP:20260419T224724Z
END:VEVENT
END:VCALENDAR