BEGIN:VCALENDAR
VERSION:2.0
PRODID:www.codnes.sk
BEGIN:VEVENT
UID:69e5f1f7a2365
DTSTART:20260413T180000Z
SEQUENCE:0
TRANSP:OPAQUE
DTEND:20260518T200000Z
LOCATION:Bratislava
SUMMARY:Slovenské umelkyne 20. storočia – výtvarný kurz s Monikou Pas
 coe Mikyškovou
CLASS:PUBLIC
DESCRIPTION:Hoci verejnosť dôverne pozná mená ako Benka\, Fulla či Gal
 anda\, o maliarkach\, sochárkach a fotografká
DTSTAMP:20260420T092927Z
END:VEVENT
END:VCALENDAR