BEGIN:VCALENDAR
VERSION:2.0
PRODID:www.codnes.sk
BEGIN:VEVENT
UID:69e732f0c1b03
DTSTART:20260312T160000Z
SEQUENCE:0
TRANSP:OPAQUE
DTEND:20260312T190000Z
LOCATION:Bratislava
SUMMARY:SmartLab: Zoznámte sa s 3D tlačou
CLASS:PUBLIC
DESCRIPTION:Priebehový poobedný workshop zameraný na základy práce s 3
 D tlačiarňou. Zoznámime sa so softvérom na
DTSTAMP:20260421T081856Z
END:VEVENT
END:VCALENDAR