BEGIN:VCALENDAR
VERSION:2.0
PRODID:www.codnes.sk
BEGIN:VEVENT
UID:69ed3b420a80a
DTSTART:20260426T100000Z
SEQUENCE:0
TRANSP:OPAQUE
LOCATION:Bratislava
SUMMARY:Smejko a Tanculienka - Hviezdne hity!
CLASS:PUBLIC
DESCRIPTION:Hviezdne hity!\nA je to tu! 10 výnimočných rokov s vami\, ch
 robáčikovia! Oslávte to s nami a s našimi
DTSTAMP:20260425T220802Z
END:VEVENT
END:VCALENDAR