BEGIN:VCALENDAR
VERSION:2.0
PRODID:www.codnes.sk
BEGIN:VEVENT
UID:69e601b964665
DTSTART:20260420T190000Z
SEQUENCE:0
TRANSP:OPAQUE
LOCATION:Bratislava
SUMMARY:Smyslů zbaveni
CLASS:PUBLIC
DESCRIPTION:SCÉNÁR A RÉŽIAJAKUB NVOTASCÉNAKAREL ČAPEKHUDBAĽUBICA ČE
 KOVSKÁKOSTÝMYLENKA POLÁŠKOVÁFOTOGRAFIEMARTINA
DTSTAMP:20260420T103641Z
END:VEVENT
END:VCALENDAR