BEGIN:VCALENDAR
VERSION:2.0
PRODID:www.codnes.sk
BEGIN:VEVENT
UID:69e7351749ae0
DTSTART:20260311T173000Z
SEQUENCE:0
TRANSP:OPAQUE
DTEND:20260311T193000Z
LOCATION:Bratislava
SUMMARY:Spaľovňa Slovnaft – zdravotné riziká\, mýty a fakty
CLASS:PUBLIC
DESCRIPTION:Ohrozí spaľovňa naše zdravie? Sú lepšie riešenia? Potreb
 ujeme ďalšiu spaľovňu? Hovorí nám Slovnaft p
DTSTAMP:20260421T082807Z
END:VEVENT
END:VCALENDAR