BEGIN:VCALENDAR
VERSION:2.0
PRODID:www.codnes.sk
BEGIN:VEVENT
UID:69e7337d050e5
DTSTART:20260317T170000Z
SEQUENCE:0
TRANSP:OPAQUE
DTEND:20260317T210000Z
LOCATION:Bratislava
SUMMARY:Spicy Depository: Medzikultúrny iftar (komunitná večera)
CLASS:PUBLIC
DESCRIPTION:Medzikultúrny iftar je spoločenské stretnutie inšpirované 
 moslimskou tradíciou spoločného prerušenia
DTSTAMP:20260421T082117Z
END:VEVENT
END:VCALENDAR