BEGIN:VCALENDAR
VERSION:2.0
PRODID:www.codnes.sk
BEGIN:VEVENT
UID:69e74760d8a4a
DTSTART:20260309T090000Z
SEQUENCE:0
TRANSP:OPAQUE
LOCATION:Bratislava
SUMMARY:SVETOVÁ VÝSTAVA TUTANCHAMON JEHO HROBKA A POKLADY
CLASS:PUBLIC
DESCRIPTION:Tutanchamón prichádza!\nVeľkolepá výstava Tutanchamon – 
 jeho hrobka a poklady \notvorí svoje brány 17.
DTSTAMP:20260421T094608Z
END:VEVENT
END:VCALENDAR