BEGIN:VCALENDAR
VERSION:2.0
PRODID:www.codnes.sk
BEGIN:VEVENT
UID:69e746e48f142
DTSTART:20260314T190000Z
SEQUENCE:0
TRANSP:OPAQUE
DTEND:20260314T235959Z
LOCATION:Bratislava
SUMMARY:ŠVIHÁK LÁZEŇSKÝ - komédia Činoherného klubu Bratislava
CLASS:PUBLIC
DESCRIPTION:ŠVIHÁK LÁZEŇSKÝ&nbsp\;autorská komédia Činoherného klu
 bu Bratislava&nbsp\;DK RUŽINOV &nbsp\;- malá sála
DTSTAMP:20260421T094404Z
END:VEVENT
END:VCALENDAR