BEGIN:VCALENDAR
VERSION:2.0
PRODID:www.codnes.sk
BEGIN:VEVENT
UID:69e8979b276dd
DTSTART:20260322T160000Z
SEQUENCE:0
TRANSP:OPAQUE
DTEND:20260322T200000Z
LOCATION:Bratislava
SUMMARY:Tanečná zábava / hrá Duo VIVO
CLASS:PUBLIC
DESCRIPTION:V nedeľu 22. marca od 16.00 do 20.00 h sa v Nemeckom kultúrno
 m dome (Barónka 3) uskutoční tanečná zá
DTSTAMP:20260422T094043Z
END:VEVENT
END:VCALENDAR