BEGIN:VCALENDAR
VERSION:2.0
PRODID:www.codnes.sk
BEGIN:VEVENT
UID:69e5f2680b8c2
DTSTART:20260324T180000Z
SEQUENCE:0
TRANSP:OPAQUE
DTEND:20260324T190000Z
LOCATION:Bratislava
SUMMARY:Techno pilates s Djkou
CLASS:PUBLIC
DESCRIPTION:Poď si s nami vyskúšať nové cvičenie Techno Pilates do su
 per priestorov Neptune Clubu!Miluješ techno
DTSTAMP:20260420T093120Z
END:VEVENT
END:VCALENDAR