BEGIN:VCALENDAR
VERSION:2.0
PRODID:www.codnes.sk
BEGIN:VEVENT
UID:69e7331f9e66b
DTSTART:20260316T140000Z
SEQUENCE:0
TRANSP:OPAQUE
DTEND:20260316T180000Z
LOCATION:Bratislava
SUMMARY:Technológie bez strachu - prednáška s OZ AI DA
CLASS:PUBLIC
DESCRIPTION:Na prednáške si jednoduchým a zrozumiteľným spôsobom&nbsp
 \;sa vysvetlí:&nbsp\;čo je to umelá inteligen
DTSTAMP:20260421T081943Z
END:VEVENT
END:VCALENDAR