BEGIN:VCALENDAR
VERSION:2.0
PRODID:www.codnes.sk
BEGIN:VEVENT
UID:69e6cc0c7eca5
DTSTART:20260515T210000Z
SEQUENCE:0
TRANSP:OPAQUE
DTEND:20260516T030000Z
LOCATION:Bratislava
SUMMARY:Tepláreň kabaret & párty
CLASS:PUBLIC
DESCRIPTION:Toto je elixír života. Vitamíny LGBTI+ ti dodajú energiu\, 
 ktorú potrebuješ. Tepláreň je smoothie\, kt
DTSTAMP:20260421T005956Z
END:VEVENT
END:VCALENDAR