BEGIN:VCALENDAR
VERSION:2.0
PRODID:www.codnes.sk
BEGIN:VEVENT
UID:69ea887a627cf
DTSTART:20200316T193000Z
SEQUENCE:0
TRANSP:OPAQUE
LOCATION:Prešov
SUMMARY:Teror / DJZ Prešov
CLASS:PUBLIC
DESCRIPTION:Ferdinand von Schirach\nTEROR\nPredstavte si\, že máte možno
 sť odvrátiť obrovskú katastrofu a zachrániť
DTSTAMP:20260423T210042Z
END:VEVENT
END:VCALENDAR