BEGIN:VCALENDAR
VERSION:2.0
PRODID:www.codnes.sk
BEGIN:VEVENT
UID:69e5f154ba878
DTSTART:20260422T200000Z
SEQUENCE:0
TRANSP:OPAQUE
DTEND:20260422T235959Z
LOCATION:Bratislava
SUMMARY:Tribute to Sonny Rollins: Uherek • Kapusník • Valíček
CLASS:PUBLIC
DESCRIPTION:Príďte si užiť špičkový jazz do legendárneho Nu Spirit 
 Baru! V stredu 22. apríla 2026 sa môžete teši
DTSTAMP:20260420T092644Z
END:VEVENT
END:VCALENDAR