BEGIN:VCALENDAR
VERSION:2.0
PRODID:www.codnes.sk
BEGIN:VEVENT
UID:69e769c99f96c
DTSTART:20260311T180000Z
SEQUENCE:0
TRANSP:OPAQUE
DTEND:20260311T193000Z
LOCATION:Bratislava
SUMMARY:Tu a teraz - Umenie spomaliť
CLASS:PUBLIC
DESCRIPTION:Workshop s ukážkami mindfulness a vedenou meditáciou ponúka
  účastníkom možnosť spomaliť\, uvoľniť sa
DTSTAMP:20260421T121257Z
END:VEVENT
END:VCALENDAR