BEGIN:VCALENDAR
VERSION:2.0
PRODID:www.codnes.sk
BEGIN:VEVENT
UID:69e601d7dc262
DTSTART:20260420T190000Z
SEQUENCE:0
TRANSP:OPAQUE
LOCATION:Bratislava
SUMMARY:TÝŽDEŇ A DOSŤ!
CLASS:PUBLIC
DESCRIPTION:TÝŽDEŇ  A  DOSŤ!komédia\nClément Michel (1974) je súč
 asný francúzsky herec\, dramatik\, scenárista a di
DTSTAMP:20260420T103711Z
END:VEVENT
END:VCALENDAR