BEGIN:VCALENDAR
VERSION:2.0
PRODID:www.codnes.sk
BEGIN:VEVENT
UID:69e5ee96a1e6a
DTSTART:20260422T200000Z
SEQUENCE:0
TRANSP:OPAQUE
LOCATION:Bratislava
SUMMARY:U2 Unplugged Pri Sviečkach
CLASS:PUBLIC
DESCRIPTION:Na koncerte \"U2 Unplugged Pri Sviečkach\" si vám dovoľujeme
  predstaviť tribute kapelu\, ktorá vás pren
DTSTAMP:20260420T091502Z
END:VEVENT
END:VCALENDAR