BEGIN:VCALENDAR
VERSION:2.0
PRODID:www.codnes.sk
BEGIN:VEVENT
UID:69e8889c4215f
DTSTART:20250215T150000Z
SEQUENCE:0
TRANSP:OPAQUE
DTEND:20250215T190000Z
LOCATION:Bratislava
SUMMARY:Ulicami strateného mesta - Vydrica a Zuckermandel - 15. 2. 2025
CLASS:PUBLIC
DESCRIPTION:Z&nbsp\;bratislavského Podhradia sa nám do dnešných čias z
 achovali len zlomky pôvodnej architektúry.
DTSTAMP:20260422T083644Z
END:VEVENT
END:VCALENDAR