BEGIN:VCALENDAR
VERSION:2.0
PRODID:www.codnes.sk
BEGIN:VEVENT
UID:69e5f19c4cc12
DTSTART:20260421T190000Z
SEQUENCE:0
TRANSP:OPAQUE
DTEND:20260421T235900Z
LOCATION:Bratislava
SUMMARY:Vastum (usa) & Torture Rack (usa) / ŽALÁR
CLASS:PUBLIC
DESCRIPTION:Pre nás\, čo milujeme death metal je Vastum absolútna legend
 a. &nbsp\;A o to viac si vážíme\, že v rámc
DTSTAMP:20260420T092756Z
END:VEVENT
END:VCALENDAR