BEGIN:VCALENDAR
VERSION:2.0
PRODID:www.codnes.sk
BEGIN:VEVENT
UID:69e733e19c17e
DTSTART:20260312T163000Z
SEQUENCE:0
TRANSP:OPAQUE
DTEND:20260312T203000Z
LOCATION:Bratislava
SUMMARY:Velikáni architektúry na Námestí slobody
CLASS:PUBLIC
DESCRIPTION:Nedávno zrekonštruované Námestie slobody s dominantnou font
 ánou patrilo v minulosti hlavne vojakom a
DTSTAMP:20260421T082257Z
END:VEVENT
END:VCALENDAR