BEGIN:VCALENDAR
VERSION:2.0
PRODID:www.codnes.sk
BEGIN:VEVENT
UID:69e732c0af086
DTSTART:20250521T190000Z
SEQUENCE:0
TRANSP:OPAQUE
LOCATION:Bratislava
SUMMARY:Vivaldi &amp\; beyond účinkuje: STELLAR QUARTET
CLASS:PUBLIC
DESCRIPTION:Hudobná cesta naprieč storočiami. STELLAR QUARTET Vás pozý
 va na jedinečný hudobný večer\, kde sa baro
DTSTAMP:20260421T081808Z
END:VEVENT
END:VCALENDAR