BEGIN:VCALENDAR
VERSION:2.0
PRODID:www.codnes.sk
BEGIN:VEVENT
UID:69e75ab4b4e46
DTSTART:20260422T110000Z
SEQUENCE:0
TRANSP:OPAQUE
DTEND:20260422T130000Z
LOCATION:Bratislava
SUMMARY:Výchovný koncert pre neposlušné deti a ich starostlivých rodi
 čov
CLASS:PUBLIC
DESCRIPTION:Bláznivé rozprávky Dušana Taragela ožívajú v autorskej a
 daptácii a réžii Mateja Trubana\, v podobe pe
DTSTAMP:20260421T110836Z
END:VEVENT
END:VCALENDAR