BEGIN:VCALENDAR
VERSION:2.0
PRODID:www.codnes.sk
BEGIN:VEVENT
UID:69ed3b46e8ea2
DTSTART:20260426T100000Z
SEQUENCE:0
TRANSP:OPAQUE
DTEND:20260426T140000Z
LOCATION:Bratislava
SUMMARY:Výchovný koncert pre neposlušné deti a ich starostlivých rodi
 čov
CLASS:PUBLIC
DESCRIPTION:Bláznivé rozprávky Dušana Taragela ožívajú v autorskej a
 daptácii a réžii Mateja Trubana\, v podobe pe
DTSTAMP:20260425T220806Z
END:VEVENT
END:VCALENDAR