BEGIN:VCALENDAR
VERSION:2.0
PRODID:www.codnes.sk
BEGIN:VEVENT
UID:69e8973ec1fd1
DTSTART:20260426T100000Z
SEQUENCE:0
TRANSP:OPAQUE
DTEND:20260426T180000Z
LOCATION:Bratislava
SUMMARY:Výstava 125 rokov knižnice
CLASS:PUBLIC
DESCRIPTION:Mestská knižnica v Bratislave vznikla 1. októbra 1900\, tak
 že nedávno si pripomenula 125 rokov od svo
DTSTAMP:20260422T093910Z
END:VEVENT
END:VCALENDAR