BEGIN:VCALENDAR
VERSION:2.0
PRODID:www.codnes.sk
BEGIN:VEVENT
UID:69ebabb52d067
DTSTART:20231010T150000Z
SEQUENCE:0
TRANSP:OPAQUE
DTEND:99991230T235959Z
LOCATION:Bratislava
SUMMARY:Výstava Malý princ
CLASS:PUBLIC
DESCRIPTION:Malý princ žije na Islande a na jeseň príde medzi slovensk
 ých fanúšikov! Literárna klasika\, ktorá sv
DTSTAMP:20260424T174317Z
END:VEVENT
END:VCALENDAR