BEGIN:VCALENDAR
VERSION:2.0
PRODID:www.codnes.sk
BEGIN:VEVENT
UID:69e62795b7624
DTSTART:20200215T160000Z
SEQUENCE:0
TRANSP:OPAQUE
DTEND:20200215T200000Z
LOCATION:Bratislava
SUMMARY:vytvor si krajinu z Kompánkových talizmanov
CLASS:PUBLIC
DESCRIPTION:“vytvor si krajinu z Kompánkových talizmanov”Vytvorili sm
 e pre vás opäť jedinečnú dielňu plnú umelec
DTSTAMP:20260420T131813Z
END:VEVENT
END:VCALENDAR