BEGIN:VCALENDAR
VERSION:2.0
PRODID:www.codnes.sk
BEGIN:VEVENT
UID:69ed3c5b052c5
DTSTART:20230623T190000Z
SEQUENCE:0
TRANSP:OPAQUE
DTEND:20230623T235900Z
LOCATION:Bratislava
SUMMARY:WALTER SCHNITZELSSON OTVORENIE KULTÚRNEHO LETA V STAROM MESTE ♿
   👁️
CLASS:PUBLIC
DESCRIPTION:Ich hudba je zmesou rock'n'rollu\, bluesu\, punku a súčasnéh
 o indie. V pesničkách dominujú výrazné git
DTSTAMP:20260425T221243Z
END:VEVENT
END:VCALENDAR